BEGIN:VCALENDAR
PRODID:-//Microsoft Corporation//Outlook 12.0 MIMEDIR//EN
VERSION:2.0
CALSCALE:GREGORIAN
BEGIN:VEVENT
UID: aad3325e-67d2-48d3-9916-80d6b2975259
SUMMARY:Madisepäeva teatejooks
DTSTAMP:20240919T180000
DTSTART:20240919T180000
DTEND:20240919T200000
LOCATION:
DESCRIPTION: <p>	Türi järve ääres traditsiooniline Madisepäeva teatejooksu õhtu kogu kooliperele.<br />	Ootame osalema kõiki klasse nii jooksjatena kui ka elama kaasa sõpradele.</p><p>	Vaja läheb teatepulgana taskulampi ja osalemas peaks olema klassist 8 õpilast (3 tüdrukut ja 5 poissi).<br />	Soovi korral võib tüdruk asendada poissi. Üks klass võib välja panna mitu võistkonda.<br />	<br />	1. - 3. klassi registreerimine kogu võistkonnaga kell 18:00 ja jooksule antakse start kell 18:30.<br />	<br />	4. - 9. klassi registreerimine kogu võistkonnaga kell 19:00 ja jooksule antakse start kell 19:30.</p><p><strong>Link: </strong>https://www.tyripk.ee/et/sundmuste-kalender/madisepaeva-teatejooks</p><p><strong>Hind: </strong></p>
STATUS:CONFIRMED
SEQUENCE:3
X-ALT-DESC;FMTTYPE=text/html:<p>	Türi järve ääres traditsiooniline Madisepäeva teatejooksu õhtu kogu kooliperele.<br />	Ootame osalema kõiki klasse nii jooksjatena kui ka elama kaasa sõpradele.</p><p>	Vaja läheb teatepulgana taskulampi ja osalemas peaks olema klassist 8 õpilast (3 tüdrukut ja 5 poissi).<br />	Soovi korral võib tüdruk asendada poissi. Üks klass võib välja panna mitu võistkonda.<br />	<br />	1. - 3. klassi registreerimine kogu võistkonnaga kell 18:00 ja jooksule antakse start kell 18:30.<br />	<br />	4. - 9. klassi registreerimine kogu võistkonnaga kell 19:00 ja jooksule antakse start kell 19:30.</p><p><strong>Link: </strong>https://www.tyripk.ee/et/sundmuste-kalender/madisepaeva-teatejooks</p><p><strong>Hind: </strong></p>
X-MICROSOFT-CDO-BUSYSTATUS:OOF
X-MICROSOFT-CDO-IMPORTANCE:1
X-MICROSOFT-DISALLOW-COUNTER:FALSE
X-MS-OLK-ALLOWEXTERNCHECK:TRUE
X-MS-OLK-CONFTYPE:0
X-MICROSOFT-CDO-ALLDAYEVENT:
X-MICROSOFT-MSNCALENDAR-ALLDAYEVENT:
END:VEVENT
END:VCALENDAR