BEGIN:VCALENDAR
PRODID:-//Microsoft Corporation//Outlook 12.0 MIMEDIR//EN
VERSION:2.0
CALSCALE:GREGORIAN
BEGIN:VEVENT
UID: 60f58724-5aba-40dd-9452-1a3ddbb460f2
SUMMARY:Viimane koolipäev
DTSTAMP:20191220T000000
DTSTART:20191220T000000
DTEND:20191220T093400
LOCATION:
DESCRIPTION: <div>	kell 8.00</div><div>	1.-5. klass</div><div>	külaline&nbsp;+ ühislaulmine</div><div>	Klassijuhataja tund</div><div>	Ühistegevused</div><div>	&nbsp;</div><div>	&nbsp;</div><div>	kell 9.00</div><div>	6.-9. klass</div><div>	külaline&nbsp;+ ühislaulmine</div><div>	Klassijuhataja tund</div><div>	Ühistegevused</div><p><strong>Link: </strong>https://www.tyripk.ee/et/sundmuste-kalender/viimane-koolipaev</p><p><strong>Hind: </strong></p>
STATUS:CONFIRMED
SEQUENCE:3
X-ALT-DESC;FMTTYPE=text/html:<div>	kell 8.00</div><div>	1.-5. klass</div><div>	külaline&nbsp;+ ühislaulmine</div><div>	Klassijuhataja tund</div><div>	Ühistegevused</div><div>	&nbsp;</div><div>	&nbsp;</div><div>	kell 9.00</div><div>	6.-9. klass</div><div>	külaline&nbsp;+ ühislaulmine</div><div>	Klassijuhataja tund</div><div>	Ühistegevused</div><p><strong>Link: </strong>https://www.tyripk.ee/et/sundmuste-kalender/viimane-koolipaev</p><p><strong>Hind: </strong></p>
X-MICROSOFT-CDO-BUSYSTATUS:OOF
X-MICROSOFT-CDO-IMPORTANCE:1
X-MICROSOFT-DISALLOW-COUNTER:FALSE
X-MS-OLK-ALLOWEXTERNCHECK:TRUE
X-MS-OLK-CONFTYPE:0
X-MICROSOFT-CDO-ALLDAYEVENT:
X-MICROSOFT-MSNCALENDAR-ALLDAYEVENT:
END:VEVENT
END:VCALENDAR